Package: GSEAlm Version: 1.71.0 Command: /home/biocbuild/bbs-3.23-bioc/R/bin/R CMD INSTALL GSEAlm StartedAt: 2025-11-13 15:13:34 -0500 (Thu, 13 Nov 2025) EndedAt: 2025-11-13 15:13:37 -0500 (Thu, 13 Nov 2025) EllapsedTime: 3.0 seconds RetCode: 0 Status: OK