Package: GSEAlm Version: 1.71.0 Command: /home/biocbuild/bbs-3.23-bioc/R/bin/R CMD build --keep-empty-dirs --no-resave-data GSEAlm StartedAt: 2025-11-13 17:58:25 -0500 (Thu, 13 Nov 2025) EndedAt: 2025-11-13 17:59:09 -0500 (Thu, 13 Nov 2025) EllapsedTime: 44.1 seconds RetCode: 0 Status: OK PackageFile: GSEAlm_1.71.0.tar.gz PackageFileSize: 1.247 MiB