Package: GSEAlm Version: 1.71.0 Command: /Library/Frameworks/R.framework/Resources/bin/R CMD INSTALL GSEAlm StartedAt: 2025-11-13 15:07:35 -0500 (Thu, 13 Nov 2025) EndedAt: 2025-11-13 15:07:37 -0500 (Thu, 13 Nov 2025) EllapsedTime: 2.7 seconds RetCode: 0 Status: OK