Package: GSEAlm Version: 1.71.0 Command: /Library/Frameworks/R.framework/Resources/bin/R CMD build --keep-empty-dirs --no-resave-data GSEAlm StartedAt: 2025-11-13 16:37:43 -0500 (Thu, 13 Nov 2025) EndedAt: 2025-11-13 16:38:02 -0500 (Thu, 13 Nov 2025) EllapsedTime: 19.2 seconds RetCode: 0 Status: OK PackageFile: GSEAlm_1.71.0.tar.gz PackageFileSize: 1.245 MiB