Package: GSEAlm Version: 1.71.0 Command: rm -rf GSEAlm.buildbin-libdir && mkdir GSEAlm.buildbin-libdir && /Users/biocbuild/BBS/utils/build-universal.sh GSEAlm_1.71.0.tar.gz /Library/Frameworks/R.framework/Resources/bin/R GSEAlm.buildbin-libdir StartedAt: 2025-11-13 23:40:35 -0500 (Thu, 13 Nov 2025) EndedAt: 2025-11-13 23:40:38 -0500 (Thu, 13 Nov 2025) EllapsedTime: 3.1 seconds RetCode: 0 Status: OK PackageFile: GSEAlm_1.71.0.tgz PackageFileSize: 1.238 MiB