Package: GSEAlm Version: 1.71.0 Maintainer: Assaf Oron MaintainerEmail: assaf at uw.edu git_url: https://git.bioconductor.org/packages/GSEAlm git_branch: devel git_last_commit: 952cfe6 git_last_commit_date: 2025-10-29 10:00:19 -0500 (Wed, 29 Oct 2025)