Package: GSEABenchmarkeR Version: 1.31.0 Command: /Library/Frameworks/R.framework/Resources/bin/R CMD build --keep-empty-dirs --no-resave-data GSEABenchmarkeR StartedAt: 2025-11-26 16:34:25 -0500 (Wed, 26 Nov 2025) EndedAt: 2025-11-26 16:35:40 -0500 (Wed, 26 Nov 2025) EllapsedTime: 75.8 seconds RetCode: 1 Status: ERROR PackageFile: None PackageFileSize: NA