Package: GSEABase Version: 1.73.0 Command: /Library/Frameworks/R.framework/Resources/bin/R CMD INSTALL GSEABase StartedAt: 2025-11-14 15:10:04 -0500 (Fri, 14 Nov 2025) EndedAt: 2025-11-14 15:10:11 -0500 (Fri, 14 Nov 2025) EllapsedTime: 6.8 seconds RetCode: 0 Status: OK