Package: GSEABase Version: 1.73.0 Command: /Library/Frameworks/R.framework/Resources/bin/R CMD build --keep-empty-dirs --no-resave-data GSEABase StartedAt: 2025-11-13 16:37:41 -0500 (Thu, 13 Nov 2025) EndedAt: 2025-11-13 16:38:15 -0500 (Thu, 13 Nov 2025) EllapsedTime: 34.4 seconds RetCode: 0 Status: OK PackageFile: GSEABase_1.73.0.tar.gz PackageFileSize: 292.7 KiB