Package: GSEABase Version: 1.73.0 Command: rm -rf GSEABase.buildbin-libdir && mkdir GSEABase.buildbin-libdir && /Users/biocbuild/BBS/utils/build-universal.sh GSEABase_1.73.0.tar.gz /Library/Frameworks/R.framework/Resources/bin/R GSEABase.buildbin-libdir StartedAt: 2025-11-13 23:40:35 -0500 (Thu, 13 Nov 2025) EndedAt: 2025-11-13 23:40:44 -0500 (Thu, 13 Nov 2025) EllapsedTime: 9.2 seconds RetCode: 0 Status: OK PackageFile: GSEABase_1.73.0.tgz PackageFileSize: 1.002 MiB