Package: GSCA Version: 2.41.0 Command: /home/biocbuild/bbs-3.23-bioc/R/bin/R CMD INSTALL GSCA StartedAt: 2025-11-14 15:08:57 -0500 (Fri, 14 Nov 2025) EndedAt: 2025-11-14 15:09:27 -0500 (Fri, 14 Nov 2025) EllapsedTime: 30.7 seconds RetCode: 0 Status: OK