Package: GSCA Version: 2.41.0 Command: /home/biocbuild/bbs-3.23-bioc/R/bin/R CMD build --keep-empty-dirs --no-resave-data GSCA StartedAt: 2025-11-14 17:58:13 -0500 (Fri, 14 Nov 2025) EndedAt: 2025-11-14 17:58:31 -0500 (Fri, 14 Nov 2025) EllapsedTime: 18.0 seconds RetCode: 0 Status: OK PackageFile: GSCA_2.41.0.tar.gz PackageFileSize: 2.288 MiB