Package: GSCA Version: 2.41.0 Maintainer: Zhicheng Ji MaintainerEmail: zji4 at jhu.edu git_url: https://git.bioconductor.org/packages/GSCA git_branch: devel git_last_commit: e6b6b2f git_last_commit_date: 2025-10-29 10:18:06 -0500 (Wed, 29 Oct 2025)