Package: GSAR Version: 1.45.0 Command: /home/biocbuild/bbs-3.23-bioc/R/bin/R CMD build --keep-empty-dirs --no-resave-data GSAR StartedAt: 2025-11-21 17:58:09 -0500 (Fri, 21 Nov 2025) EndedAt: 2025-11-21 18:04:07 -0500 (Fri, 21 Nov 2025) EllapsedTime: 358.4 seconds RetCode: 0 Status: OK PackageFile: GSAR_1.45.0.tar.gz PackageFileSize: 1.777 MiB