Package: GSAR Version: 1.45.0 Command: /Library/Frameworks/R.framework/Resources/bin/R CMD INSTALL GSAR StartedAt: 2025-11-13 15:03:15 -0500 (Thu, 13 Nov 2025) EndedAt: 2025-11-13 15:03:23 -0500 (Thu, 13 Nov 2025) EllapsedTime: 7.6 seconds RetCode: 0 Status: OK