Package: GSAR Version: 1.45.0 Command: rm -rf GSAR.buildbin-libdir && mkdir GSAR.buildbin-libdir && /Users/biocbuild/BBS/utils/build-universal.sh GSAR_1.45.0.tar.gz /Library/Frameworks/R.framework/Resources/bin/R GSAR.buildbin-libdir StartedAt: 2025-11-13 23:40:32 -0500 (Thu, 13 Nov 2025) EndedAt: 2025-11-13 23:40:35 -0500 (Thu, 13 Nov 2025) EllapsedTime: 3.1 seconds RetCode: 0 Status: OK PackageFile: GSAR_1.45.0.tgz PackageFileSize: 3.48 MiB