Package: GSALightning Version: 1.39.0 Command: /home/biocbuild/bbs-3.23-bioc/R/bin/R CMD build --keep-empty-dirs --no-resave-data GSALightning StartedAt: 2025-11-13 17:57:52 -0500 (Thu, 13 Nov 2025) EndedAt: 2025-11-13 17:58:53 -0500 (Thu, 13 Nov 2025) EllapsedTime: 61.1 seconds RetCode: 0 Status: OK PackageFile: GSALightning_1.39.0.tar.gz PackageFileSize: 4.258 MiB