Package: GSALightning Version: 1.39.0 Command: /Library/Frameworks/R.framework/Resources/bin/R CMD INSTALL GSALightning StartedAt: 2025-11-13 15:03:03 -0500 (Thu, 13 Nov 2025) EndedAt: 2025-11-13 15:03:06 -0500 (Thu, 13 Nov 2025) EllapsedTime: 2.3 seconds RetCode: 0 Status: OK