Package: GSALightning Version: 1.39.0 Command: /Library/Frameworks/R.framework/Resources/bin/R CMD build --keep-empty-dirs --no-resave-data GSALightning StartedAt: 2025-11-13 16:37:20 -0500 (Thu, 13 Nov 2025) EndedAt: 2025-11-13 16:37:48 -0500 (Thu, 13 Nov 2025) EllapsedTime: 28.3 seconds RetCode: 0 Status: OK PackageFile: GSALightning_1.39.0.tar.gz PackageFileSize: 4.272 MiB