Package: GSALightning Version: 1.39.0 Maintainer: Billy Heung Wing Chang MaintainerEmail: billyheungwing at gmail.com git_url: https://git.bioconductor.org/packages/GSALightning git_branch: devel git_last_commit: 0a30e78 git_last_commit_date: 2025-10-29 10:29:22 -0500 (Wed, 29 Oct 2025)