Package: GRmetrics Version: 1.37.0 Command: /Library/Frameworks/R.framework/Resources/bin/R CMD INSTALL GRmetrics StartedAt: 2025-11-23 15:15:27 -0500 (Sun, 23 Nov 2025) EndedAt: 2025-11-23 15:15:36 -0500 (Sun, 23 Nov 2025) EllapsedTime: 9.0 seconds RetCode: 0 Status: OK