Package: GRmetrics Version: 1.37.0 Command: /Library/Frameworks/R.framework/Resources/bin/R CMD build --keep-empty-dirs --no-resave-data GRmetrics StartedAt: 2025-11-23 16:34:51 -0500 (Sun, 23 Nov 2025) EndedAt: 2025-11-23 16:35:10 -0500 (Sun, 23 Nov 2025) EllapsedTime: 19.2 seconds RetCode: 0 Status: OK PackageFile: GRmetrics_1.37.0.tar.gz PackageFileSize: 1.947 MiB