Package: GOfuncR Version: 1.31.0 Command: /Library/Frameworks/R.framework/Resources/bin/R CMD INSTALL GOfuncR StartedAt: 2025-11-14 15:19:30 -0500 (Fri, 14 Nov 2025) EndedAt: 2025-11-14 15:20:03 -0500 (Fri, 14 Nov 2025) EllapsedTime: 33.2 seconds RetCode: 0 Status: OK