Package: GOfuncR Version: 1.31.0 Command: /Library/Frameworks/R.framework/Resources/bin/R CMD build --keep-empty-dirs --no-resave-data GOfuncR StartedAt: 2025-11-14 16:32:07 -0500 (Fri, 14 Nov 2025) EndedAt: 2025-11-14 16:33:56 -0500 (Fri, 14 Nov 2025) EllapsedTime: 109.2 seconds RetCode: 0 Status: OK PackageFile: GOfuncR_1.31.0.tar.gz PackageFileSize: 5.212 MiB