Package: GOTHiC Version: 1.47.0 Command: /home/biocbuild/bbs-3.23-bioc/R/bin/R CMD build --keep-empty-dirs --no-resave-data GOTHiC StartedAt: 2025-11-13 17:54:52 -0500 (Thu, 13 Nov 2025) EndedAt: 2025-11-13 17:55:32 -0500 (Thu, 13 Nov 2025) EllapsedTime: 40.0 seconds RetCode: 0 Status: OK PackageFile: GOTHiC_1.47.0.tar.gz PackageFileSize: 1.697 MiB