Package: GOTHiC Version: 1.47.0 Command: /Library/Frameworks/R.framework/Resources/bin/R CMD INSTALL GOTHiC StartedAt: 2025-11-14 15:26:37 -0500 (Fri, 14 Nov 2025) EndedAt: 2025-11-14 15:26:52 -0500 (Fri, 14 Nov 2025) EllapsedTime: 15.5 seconds RetCode: 0 Status: OK