Package: GOTHiC Version: 1.47.0 Maintainer: Borbala Mifsud MaintainerEmail: b.mifsud at qmul.ac.uk git_url: https://git.bioconductor.org/packages/GOTHiC git_branch: devel git_last_commit: 7af2557 git_last_commit_date: 2025-10-29 10:52:56 -0500 (Wed, 29 Oct 2025)