Package: GOSemSim Version: 2.37.0 Command: /home/biocbuild/bbs-3.23-bioc/R/bin/R CMD build --keep-empty-dirs --no-resave-data GOSemSim StartedAt: 2025-11-13 17:54:09 -0500 (Thu, 13 Nov 2025) EndedAt: 2025-11-13 17:54:34 -0500 (Thu, 13 Nov 2025) EllapsedTime: 25.0 seconds RetCode: 0 Status: OK PackageFile: GOSemSim_2.37.0.tar.gz PackageFileSize: 594.9 KiB