Package: GOSemSim Version: 2.37.0 Command: /Library/Frameworks/R.framework/Resources/bin/R CMD build --keep-empty-dirs --no-resave-data GOSemSim StartedAt: 2025-11-13 16:35:28 -0500 (Thu, 13 Nov 2025) EndedAt: 2025-11-13 16:35:37 -0500 (Thu, 13 Nov 2025) EllapsedTime: 9.1 seconds RetCode: 0 Status: OK PackageFile: GOSemSim_2.37.0.tar.gz PackageFileSize: 594.9 KiB