Package: GOSemSim Version: 2.37.0 Command: rm -rf GOSemSim.buildbin-libdir && mkdir GOSemSim.buildbin-libdir && /Users/biocbuild/BBS/utils/build-universal.sh GOSemSim_2.37.0.tar.gz /Library/Frameworks/R.framework/Resources/bin/R GOSemSim.buildbin-libdir StartedAt: 2025-11-13 23:40:13 -0500 (Thu, 13 Nov 2025) EndedAt: 2025-11-13 23:40:23 -0500 (Thu, 13 Nov 2025) EllapsedTime: 10.3 seconds RetCode: 0 Status: OK PackageFile: GOSemSim_2.37.0.tgz PackageFileSize: 1.144 MiB