Package: GOSemSim Version: 2.37.0 Maintainer: Guangchuang Yu MaintainerEmail: guangchuangyu at gmail.com git_url: https://git.bioconductor.org/packages/GOSemSim git_branch: devel git_last_commit: ddb2082 git_last_commit_date: 2025-10-29 10:02:04 -0500 (Wed, 29 Oct 2025)