Package: GNOSIS Version: 1.9.0 Command: /home/biocbuild/bbs-3.23-bioc/R/bin/R CMD INSTALL GNOSIS StartedAt: 2025-11-13 15:45:51 -0500 (Thu, 13 Nov 2025) EndedAt: 2025-11-13 15:46:54 -0500 (Thu, 13 Nov 2025) EllapsedTime: 63.4 seconds RetCode: 0 Status: OK