Package: GNOSIS Version: 1.9.0 Command: /Library/Frameworks/R.framework/Resources/bin/R CMD INSTALL GNOSIS StartedAt: 2025-11-12 15:41:21 -0500 (Wed, 12 Nov 2025) EndedAt: 2025-11-12 15:41:47 -0500 (Wed, 12 Nov 2025) EllapsedTime: 25.0 seconds RetCode: 0 Status: OK