Package: GNOSIS Version: 1.9.0 Command: rm -rf GNOSIS.buildbin-libdir && mkdir GNOSIS.buildbin-libdir && /Users/biocbuild/BBS/utils/build-universal.sh GNOSIS_1.9.0.tar.gz /Library/Frameworks/R.framework/Resources/bin/R GNOSIS.buildbin-libdir StartedAt: 2025-11-12 20:59:11 -0500 (Wed, 12 Nov 2025) EndedAt: 2025-11-12 20:59:41 -0500 (Wed, 12 Nov 2025) EllapsedTime: 29.7 seconds RetCode: 0 Status: OK PackageFile: GNOSIS_1.9.0.tgz PackageFileSize: 2.532 MiB