Package: GNOSIS Version: 1.9.0 Maintainer: Lydia King MaintainerEmail: l.king18 at universityofgalway.ie git_url: https://git.bioconductor.org/packages/GNOSIS git_branch: devel git_last_commit: 507e621 git_last_commit_date: 2025-10-29 11:26:22 -0500 (Wed, 29 Oct 2025)