Package: GNET2 Version: 1.27.0 Command: /home/biocbuild/bbs-3.23-bioc/R/bin/R CMD check --install=check:GNET2.install-out.txt --library=/home/biocbuild/bbs-3.23-bioc/R/site-library --timings GNET2_1.27.0.tar.gz StartedAt: 2025-11-14 00:06:09 -0500 (Fri, 14 Nov 2025) EndedAt: 2025-11-14 00:09:22 -0500 (Fri, 14 Nov 2025) EllapsedTime: 193.3 seconds RetCode: 0 Status: OK CheckDir: GNET2.Rcheck Warnings: 0