Package: GNET2 Version: 1.27.0 Command: /Library/Frameworks/R.framework/Resources/bin/R CMD INSTALL GNET2 StartedAt: 2025-11-12 15:24:58 -0500 (Wed, 12 Nov 2025) EndedAt: 2025-11-12 15:25:11 -0500 (Wed, 12 Nov 2025) EllapsedTime: 12.9 seconds RetCode: 0 Status: OK