Package: GNET2 Version: 1.27.0 Command: /Library/Frameworks/R.framework/Resources/bin/R CMD check --install=check:GNET2.install-out.txt --library=/Library/Frameworks/R.framework/Resources/library --no-vignettes --timings GNET2_1.27.0.tar.gz StartedAt: 2025-11-13 20:16:33 -0500 (Thu, 13 Nov 2025) EndedAt: 2025-11-13 20:17:51 -0500 (Thu, 13 Nov 2025) EllapsedTime: 78.0 seconds RetCode: 0 Status: OK CheckDir: GNET2.Rcheck Warnings: 0