Package: GNET2 Version: 1.27.0 Command: /Library/Frameworks/R.framework/Resources/bin/R CMD build --keep-empty-dirs --no-resave-data GNET2 StartedAt: 2025-11-13 16:34:50 -0500 (Thu, 13 Nov 2025) EndedAt: 2025-11-13 16:35:09 -0500 (Thu, 13 Nov 2025) EllapsedTime: 19.2 seconds RetCode: 0 Status: OK PackageFile: GNET2_1.27.0.tar.gz PackageFileSize: 789.6 KiB