Package: GNET2 Version: 1.27.0 Command: rm -rf GNET2.buildbin-libdir && mkdir GNET2.buildbin-libdir && /Users/biocbuild/BBS/utils/build-universal.sh GNET2_1.27.0.tar.gz /Library/Frameworks/R.framework/Resources/bin/R GNET2.buildbin-libdir StartedAt: 2025-11-12 20:59:08 -0500 (Wed, 12 Nov 2025) EndedAt: 2025-11-12 20:59:24 -0500 (Wed, 12 Nov 2025) EllapsedTime: 15.3 seconds RetCode: 0 Status: OK PackageFile: GNET2_1.27.0.tgz PackageFileSize: 917.7 KiB