Package: GLAD Version: 2.75.0 Command: /home/biocbuild/bbs-3.23-bioc/R/bin/R CMD INSTALL GLAD StartedAt: 2025-11-14 15:03:22 -0500 (Fri, 14 Nov 2025) EndedAt: 2025-11-14 15:03:44 -0500 (Fri, 14 Nov 2025) EllapsedTime: 21.8 seconds RetCode: 0 Status: OK