Package: GLAD Version: 2.75.0 Command: /Library/Frameworks/R.framework/Resources/bin/R CMD INSTALL GLAD StartedAt: 2025-11-14 15:02:07 -0500 (Fri, 14 Nov 2025) EndedAt: 2025-11-14 15:02:15 -0500 (Fri, 14 Nov 2025) EllapsedTime: 7.5 seconds RetCode: 0 Status: OK