Package: GLAD Version: 2.75.0 Command: /Library/Frameworks/R.framework/Resources/bin/R CMD build --keep-empty-dirs --no-resave-data GLAD StartedAt: 2025-11-13 16:33:07 -0500 (Thu, 13 Nov 2025) EndedAt: 2025-11-13 16:33:17 -0500 (Thu, 13 Nov 2025) EllapsedTime: 10.1 seconds RetCode: 0 Status: OK PackageFile: GLAD_2.75.0.tar.gz PackageFileSize: 1.303 MiB