Package: GLAD Version: 2.75.0 Command: rm -rf GLAD.buildbin-libdir && mkdir GLAD.buildbin-libdir && /Users/biocbuild/BBS/utils/build-universal.sh GLAD_2.75.0.tar.gz /Library/Frameworks/R.framework/Resources/bin/R GLAD.buildbin-libdir StartedAt: 2025-11-13 23:40:00 -0500 (Thu, 13 Nov 2025) EndedAt: 2025-11-13 23:40:09 -0500 (Thu, 13 Nov 2025) EllapsedTime: 9.2 seconds RetCode: 0 Status: OK PackageFile: GLAD_2.75.0.tgz PackageFileSize: 1.456 MiB