Package: GLAD Version: 2.75.0 Maintainer: Philippe Hupe MaintainerEmail: glad at curie.fr git_url: https://git.bioconductor.org/packages/GLAD git_branch: devel git_last_commit: 8bbc766 git_last_commit_date: 2025-10-29 09:55:27 -0500 (Wed, 29 Oct 2025)