Package: GEWIST Version: 1.55.0 Command: /Library/Frameworks/R.framework/Resources/bin/R CMD build --keep-empty-dirs --no-resave-data GEWIST StartedAt: 2025-11-13 16:31:54 -0500 (Thu, 13 Nov 2025) EndedAt: 2025-11-13 16:32:37 -0500 (Thu, 13 Nov 2025) EllapsedTime: 43.4 seconds RetCode: 0 Status: OK PackageFile: GEWIST_1.55.0.tar.gz PackageFileSize: 388.5 KiB