Package: GEWIST Version: 1.55.0 Command: rm -rf GEWIST.buildbin-libdir && mkdir GEWIST.buildbin-libdir && /Users/biocbuild/BBS/utils/build-universal.sh GEWIST_1.55.0.tar.gz /Library/Frameworks/R.framework/Resources/bin/R GEWIST.buildbin-libdir StartedAt: 2025-11-13 23:39:40 -0500 (Thu, 13 Nov 2025) EndedAt: 2025-11-13 23:39:42 -0500 (Thu, 13 Nov 2025) EllapsedTime: 2.0 seconds RetCode: 0 Status: OK PackageFile: GEWIST_1.55.0.tgz PackageFileSize: 413.1 KiB