Package: GEOsubmission Version: 1.63.0 Command: /Library/Frameworks/R.framework/Resources/bin/R CMD INSTALL GEOsubmission StartedAt: 2025-11-12 15:22:02 -0500 (Wed, 12 Nov 2025) EndedAt: 2025-11-12 15:22:04 -0500 (Wed, 12 Nov 2025) EllapsedTime: 1.6 seconds RetCode: 0 Status: OK