Package: GEOsubmission Version: 1.63.0 Command: /Library/Frameworks/R.framework/Resources/bin/R CMD check --install=check:GEOsubmission.install-out.txt --library=/Library/Frameworks/R.framework/Resources/library --no-vignettes --timings GEOsubmission_1.63.0.tar.gz StartedAt: 2025-11-12 18:58:19 -0500 (Wed, 12 Nov 2025) EndedAt: 2025-11-12 18:58:37 -0500 (Wed, 12 Nov 2025) EllapsedTime: 18.2 seconds RetCode: 0 Status: OK CheckDir: GEOsubmission.Rcheck Warnings: 0