Package: GEOsubmission Version: 1.63.0 Command: /Library/Frameworks/R.framework/Resources/bin/R CMD build --keep-empty-dirs --no-resave-data GEOsubmission StartedAt: 2025-11-13 16:31:34 -0500 (Thu, 13 Nov 2025) EndedAt: 2025-11-13 16:31:39 -0500 (Thu, 13 Nov 2025) EllapsedTime: 5.0 seconds RetCode: 0 Status: OK PackageFile: GEOsubmission_1.63.0.tar.gz PackageFileSize: 192.7 KiB